BEGIN:VCALENDAR
VERSION:2.0
PRODID:-// - ECPv6.15.20//NONSGML v1.0//EN
CALSCALE:GREGORIAN
METHOD:PUBLISH
X-ORIGINAL-URL:https://freedmanlpm.com
X-WR-CALDESC:Events for 
REFRESH-INTERVAL;VALUE=DURATION:PT1H
X-Robots-Tag:noindex
X-PUBLISHED-TTL:PT1H
BEGIN:VTIMEZONE
TZID:America/New_York
BEGIN:DAYLIGHT
TZOFFSETFROM:-0500
TZOFFSETTO:-0400
TZNAME:EDT
DTSTART:20250309T070000
END:DAYLIGHT
BEGIN:STANDARD
TZOFFSETFROM:-0400
TZOFFSETTO:-0500
TZNAME:EST
DTSTART:20251102T060000
END:STANDARD
BEGIN:DAYLIGHT
TZOFFSETFROM:-0500
TZOFFSETTO:-0400
TZNAME:EDT
DTSTART:20260308T070000
END:DAYLIGHT
BEGIN:STANDARD
TZOFFSETFROM:-0400
TZOFFSETTO:-0500
TZNAME:EST
DTSTART:20261101T060000
END:STANDARD
BEGIN:DAYLIGHT
TZOFFSETFROM:-0500
TZOFFSETTO:-0400
TZNAME:EDT
DTSTART:20270314T070000
END:DAYLIGHT
BEGIN:STANDARD
TZOFFSETFROM:-0400
TZOFFSETTO:-0500
TZNAME:EST
DTSTART:20271107T060000
END:STANDARD
END:VTIMEZONE
BEGIN:VEVENT
DTSTART;TZID=America/New_York:20260213T090000
DTEND;TZID=America/New_York:20260213T122000
DTSTAMP:20260423T182531
CREATED:20260131T162935Z
LAST-MODIFIED:20260131T173501Z
UID:6358-1770973200-1770985200@freedmanlpm.com
SUMMARY:FROM IDEA TO PRACTICE: FIRM MANAGEMENT BASICS & ETHICAL MUST-KNOWS
DESCRIPTION:This program highlights the ethical obligations that govern firm ownership and management. Faculty will review key rules on billing methods and fee agreements\, record management\, secure computing platforms\, the use and billing of AI\, advertising\, hiring and supervision\, and safeguarding client funds—along with common pitfalls for new solo and small-firm practitioners. Through practical examples and real-world scenarios\, participants will gain clarity on how to build a practice that complies with professional responsibility standards from day one. \n 
URL:https://freedmanlpm.com/my-event/from-idea-to-practice-firm-management-basics-ethical-must-knows/
CATEGORIES:webinar
END:VEVENT
BEGIN:VEVENT
DTSTART;TZID=America/New_York:20260317T000000
DTEND;TZID=America/New_York:20260317T000000
DTSTAMP:20260423T182531
CREATED:20260131T175119Z
LAST-MODIFIED:20260131T175119Z
UID:6367-1773705600-1773705600@freedmanlpm.com
SUMMARY:FAST FORWARD TO THE PAST: HAS TECHNOLOGY COME FULL CIRCLE?
DESCRIPTION:Increased pressure from clients and competitors to incorporate advantages offered by new technologies\, many powered by Artificial Intelligence\, add additional layers of complexity and cost to the computing environment. As does continued demand for remote and hybrid employment arrangements. The life of Windows 10 ended on October 14\, 2025. It required many firms to replace hardware incapable of upgrading to the new operating system. \nWhere does it stop?!?
URL:https://freedmanlpm.com/my-event/fast-forward-to-the-past-has-technology-come-full-circle/
END:VEVENT
END:VCALENDAR